BEGIN:VCALENDAR
VERSION:2.0
PRODID:-//bgclubscv.org//NONSGML kigkonsult.se iCalcreator 2.30.10//
CALSCALE:GREGORIAN
METHOD:PUBLISH
UID:561de10b-b26e-4986-a113-e7abe8c19cd3
X-WR-CALDESC:
X-WR-RELCALID:04a55a69d2554835c41ae5cd39a5cb9a
X-WR-TIMEZONE:America/Los_Angeles
BEGIN:VTIMEZONE
TZID:America/Los_Angeles
BEGIN:STANDARD
TZNAME:PST
DTSTART:20241103T020000
TZOFFSETFROM:-0700
TZOFFSETTO:-0800
RDATE:20251102T020000
END:STANDARD
BEGIN:DAYLIGHT
TZNAME:PDT
DTSTART:20250309T020000
TZOFFSETFROM:-0800
TZOFFSETTO:-0700
RDATE:20260308T020000
END:DAYLIGHT
END:VTIMEZONE
BEGIN:VEVENT
UID:80f74cea-6b2e-456e-bcc6-7193bd3f8f18
DTSTAMP:20260422T213701Z
DESCRIPTION:
DTSTART;TZID=America/Los_Angeles:20250411T120000
DTEND;TZID=America/Los_Angeles:20250411T130000
LOCATION:
SUMMARY:Board of Directors Meeting
END:VEVENT
END:VCALENDAR
