BEGIN:VCALENDAR
VERSION:2.0
PRODID:-//bgclubscv.org//NONSGML kigkonsult.se iCalcreator 2.30.10//
CALSCALE:GREGORIAN
METHOD:PUBLISH
UID:cd738445-601c-4143-9422-f1821b876a4c
X-WR-CALDESC:
X-WR-RELCALID:df6d299887d3b29504a3e0d3fa01005f
X-WR-TIMEZONE:America/Los_Angeles
BEGIN:VTIMEZONE
TZID:America/Los_Angeles
BEGIN:STANDARD
TZNAME:PST
DTSTART:20251102T020000
TZOFFSETFROM:-0700
TZOFFSETTO:-0800
RDATE:20261101T020000
END:STANDARD
BEGIN:DAYLIGHT
TZNAME:PDT
DTSTART:20250309T020000
TZOFFSETFROM:-0800
TZOFFSETTO:-0700
RDATE:20260308T020000
RDATE:20270314T020000
END:DAYLIGHT
END:VTIMEZONE
BEGIN:VEVENT
UID:a6b0575d-bc10-4f54-8025-8454a3f4e6c0
DTSTAMP:20260422T095523Z
DESCRIPTION:
DTSTART;TZID=America/Los_Angeles:20251108T100000
DTEND;TZID=America/Los_Angeles:20251108T133000
LOCATION:1400 E. Harvard Blvd. \, Santa Paula \, CA 93060 US
SUMMARY:14th Annual Light up the Season
END:VEVENT
END:VCALENDAR
