BEGIN:VCALENDAR
VERSION:2.0
PRODID:-//bgclubscv.org//NONSGML kigkonsult.se iCalcreator 2.30.10//
CALSCALE:GREGORIAN
METHOD:PUBLISH
UID:2f98ce64-4150-4817-976f-d53364aaec53
X-WR-CALDESC:
X-WR-RELCALID:6b416f534e263207151c70302448d182
X-WR-TIMEZONE:America/Los_Angeles
BEGIN:VTIMEZONE
TZID:America/Los_Angeles
BEGIN:STANDARD
TZNAME:PST
DTSTART:20251102T020000
TZOFFSETFROM:-0700
TZOFFSETTO:-0800
RDATE:20261101T020000
END:STANDARD
BEGIN:DAYLIGHT
TZNAME:PDT
DTSTART:20250309T020000
TZOFFSETFROM:-0800
TZOFFSETTO:-0700
RDATE:20260308T020000
RDATE:20270314T020000
END:DAYLIGHT
END:VTIMEZONE
BEGIN:VEVENT
UID:8200c230-46b7-42fe-a703-7aee82520bb0
DTSTAMP:20260422T101711Z
DESCRIPTION:
DTSTART;TZID=America/Los_Angeles:20260207T160000
DTEND;TZID=America/Los_Angeles:20260207T220000
LOCATION:4450 Clubhouse Dr\, Somis\, CA 93066
SUMMARY:22nd Annual Auction & Dinner
END:VEVENT
END:VCALENDAR
