BEGIN:VCALENDAR
VERSION:2.0
PRODID:-//bgclubscv.org//NONSGML kigkonsult.se iCalcreator 2.30.10//
CALSCALE:GREGORIAN
METHOD:PUBLISH
UID:8ddf8408-6fb6-456c-aab3-4f10a07f5fd9
X-WR-CALDESC:
X-WR-RELCALID:51583a1a03df2fd3bab03de88626685a
X-WR-TIMEZONE:America/Los_Angeles
BEGIN:VTIMEZONE
TZID:America/Los_Angeles
BEGIN:STANDARD
TZNAME:PST
DTSTART:20261101T020000
TZOFFSETFROM:-0700
TZOFFSETTO:-0800
RDATE:20271107T020000
END:STANDARD
BEGIN:DAYLIGHT
TZNAME:PDT
DTSTART:20260308T020000
TZOFFSETFROM:-0800
TZOFFSETTO:-0700
RDATE:20270314T020000
RDATE:20280312T020000
END:DAYLIGHT
END:VTIMEZONE
BEGIN:VEVENT
UID:c9c5d694-71cf-4156-bc54-b23c6629d079
DTSTAMP:20260419T195744Z
DESCRIPTION:
DTSTART;TZID=America/Los_Angeles:20261211T120000
DTEND;TZID=America/Los_Angeles:20261211T130000
LOCATION:
SUMMARY:Board of Directors Meeting
END:VEVENT
END:VCALENDAR
