BEGIN:VCALENDAR
VERSION:2.0
PRODID:-//bgclubscv.org//NONSGML kigkonsult.se iCalcreator 2.30.10//
CALSCALE:GREGORIAN
METHOD:PUBLISH
UID:92e92bbe-06fe-4936-920f-208122ad1ec9
X-WR-CALDESC:
X-WR-RELCALID:cc0124fdca4dee4cb65f59c82da04077
X-WR-TIMEZONE:America/Los_Angeles
BEGIN:VTIMEZONE
TZID:America/Los_Angeles
BEGIN:STANDARD
TZNAME:PST
DTSTART:20261101T020000
TZOFFSETFROM:-0700
TZOFFSETTO:-0800
RDATE:20271107T020000
END:STANDARD
BEGIN:DAYLIGHT
TZNAME:PDT
DTSTART:20270314T020000
TZOFFSETFROM:-0800
TZOFFSETTO:-0700
RDATE:20280312T020000
END:DAYLIGHT
END:VTIMEZONE
BEGIN:VEVENT
UID:0a4471e5-1055-41e6-af59-6ab243cbfaa7
DTSTAMP:20260420T023828Z
DESCRIPTION:
DTSTART;TZID=America/Los_Angeles:20270409T120000
DTEND;TZID=America/Los_Angeles:20270409T130000
LOCATION:
SUMMARY:Board of Directors Meeting
END:VEVENT
END:VCALENDAR
