BEGIN:VCALENDAR
VERSION:2.0
PRODID:-//bgclubscv.org//NONSGML kigkonsult.se iCalcreator 2.30.10//
CALSCALE:GREGORIAN
METHOD:PUBLISH
UID:f9e5233b-863b-410f-aafc-201525bcb794
X-WR-CALDESC:
X-WR-RELCALID:47d8f628d0fe75e681ce74c80562ff35
X-WR-TIMEZONE:America/Los_Angeles
BEGIN:VTIMEZONE
TZID:America/Los_Angeles
BEGIN:STANDARD
TZNAME:PST
DTSTART:20261101T020000
TZOFFSETFROM:-0700
TZOFFSETTO:-0800
RDATE:20271107T020000
RDATE:20281105T020000
END:STANDARD
BEGIN:DAYLIGHT
TZNAME:PDT
DTSTART:20270314T020000
TZOFFSETFROM:-0800
TZOFFSETTO:-0700
RDATE:20280312T020000
END:DAYLIGHT
END:VTIMEZONE
BEGIN:VEVENT
UID:0ff44f64-8a92-45ac-b487-46d6481066b6
DTSTAMP:20260420T091238Z
DESCRIPTION:
DTSTART;TZID=America/Los_Angeles:20270813T120000
DTEND;TZID=America/Los_Angeles:20270813T130000
LOCATION:
SUMMARY:Board of Directors Meeting
END:VEVENT
END:VCALENDAR
