BEGIN:VCALENDAR
VERSION:2.0
PRODID:-//bgclubscv.org//NONSGML kigkonsult.se iCalcreator 2.30.10//
CALSCALE:GREGORIAN
METHOD:PUBLISH
UID:d03635f9-ee05-4b7e-a80b-5f79880e5ac7
X-WR-CALDESC:
X-WR-RELCALID:8496fc0ff2b17da3a7fe3d04cefe6503
X-WR-TIMEZONE:America/Los_Angeles
BEGIN:VTIMEZONE
TZID:America/Los_Angeles
BEGIN:STANDARD
TZNAME:PST
DTSTART:20271107T020000
TZOFFSETFROM:-0700
TZOFFSETTO:-0800
RDATE:20281105T020000
END:STANDARD
BEGIN:DAYLIGHT
TZNAME:PDT
DTSTART:20270314T020000
TZOFFSETFROM:-0800
TZOFFSETTO:-0700
RDATE:20280312T020000
RDATE:20290311T020000
END:DAYLIGHT
END:VTIMEZONE
BEGIN:VEVENT
UID:0c196a47-93c0-437a-944c-f4ea26e0135b
DTSTAMP:20260422T163001Z
DESCRIPTION:
DTSTART;TZID=America/Los_Angeles:20280114T120000
DTEND;TZID=America/Los_Angeles:20280114T130000
LOCATION:
SUMMARY:Board of Directors Meeting
END:VEVENT
END:VCALENDAR
