BEGIN:VCALENDAR
VERSION:2.0
PRODID:-//bgclubscv.org//NONSGML kigkonsult.se iCalcreator 2.30.10//
CALSCALE:GREGORIAN
METHOD:PUBLISH
UID:c446db75-d167-42c0-a5e1-3a0dbc4d87c1
X-WR-CALDESC:
X-WR-RELCALID:40681c9ca6b058da5f93853ae6b358a0
X-WR-TIMEZONE:America/Los_Angeles
BEGIN:VTIMEZONE
TZID:America/Los_Angeles
BEGIN:STANDARD
TZNAME:PST
DTSTART:20271107T020000
TZOFFSETFROM:-0700
TZOFFSETTO:-0800
RDATE:20281105T020000
END:STANDARD
BEGIN:DAYLIGHT
TZNAME:PDT
DTSTART:20280312T020000
TZOFFSETFROM:-0800
TZOFFSETTO:-0700
RDATE:20290311T020000
END:DAYLIGHT
END:VTIMEZONE
BEGIN:VEVENT
UID:eecf225a-2304-41dd-bbe3-dd9a706571a5
DTSTAMP:20260422T212418Z
DESCRIPTION:
DTSTART;TZID=America/Los_Angeles:20280414T120000
DTEND;TZID=America/Los_Angeles:20280414T130000
LOCATION:
SUMMARY:Board of Directors Meeting
END:VEVENT
END:VCALENDAR
