BEGIN:VCALENDAR
VERSION:2.0
PRODID:-//bgclubscv.org//NONSGML kigkonsult.se iCalcreator 2.30.10//
CALSCALE:GREGORIAN
METHOD:PUBLISH
UID:8584ef0a-1be3-45f7-a248-267102d508e9
X-WR-CALDESC:
X-WR-RELCALID:6d24e3bed1a8bd2cf8b275b740ef5086
X-WR-TIMEZONE:America/Los_Angeles
BEGIN:VTIMEZONE
TZID:America/Los_Angeles
BEGIN:STANDARD
TZNAME:PST
DTSTART:20271107T020000
TZOFFSETFROM:-0700
TZOFFSETTO:-0800
RDATE:20281105T020000
RDATE:20291104T020000
END:STANDARD
BEGIN:DAYLIGHT
TZNAME:PDT
DTSTART:20280312T020000
TZOFFSETFROM:-0800
TZOFFSETTO:-0700
RDATE:20290311T020000
END:DAYLIGHT
END:VTIMEZONE
BEGIN:VEVENT
UID:184a2838-0a9e-40b2-ab98-b7d8bb9c4c1e
DTSTAMP:20260423T020337Z
DESCRIPTION:
DTSTART;TZID=America/Los_Angeles:20280714T120000
DTEND;TZID=America/Los_Angeles:20280714T130000
LOCATION:
SUMMARY:Board of Directors Meeting
END:VEVENT
END:VCALENDAR
