BEGIN:VCALENDAR
VERSION:2.0
PRODID:-//bgclubscv.org//NONSGML kigkonsult.se iCalcreator 2.30.10//
CALSCALE:GREGORIAN
METHOD:PUBLISH
UID:e435784c-09b2-47f9-81f2-b3b41db9d7e3
X-WR-CALDESC:
X-WR-RELCALID:b36951e62b73ce964afdfc5cced12cc1
X-WR-TIMEZONE:America/Los_Angeles
BEGIN:VTIMEZONE
TZID:America/Los_Angeles
BEGIN:STANDARD
TZNAME:PST
DTSTART:20281105T020000
TZOFFSETFROM:-0700
TZOFFSETTO:-0800
RDATE:20291104T020000
END:STANDARD
BEGIN:DAYLIGHT
TZNAME:PDT
DTSTART:20280312T020000
TZOFFSETFROM:-0800
TZOFFSETTO:-0700
RDATE:20290311T020000
RDATE:20300310T020000
END:DAYLIGHT
END:VTIMEZONE
BEGIN:VEVENT
UID:b5ced654-5fe3-4270-83ef-8962d7a86156
DTSTAMP:20260423T124541Z
DESCRIPTION:
DTSTART;TZID=America/Los_Angeles:20290112T120000
DTEND;TZID=America/Los_Angeles:20290112T130000
LOCATION:
SUMMARY:Board of Directors Meeting
END:VEVENT
END:VCALENDAR
