BEGIN:VCALENDAR
VERSION:2.0
PRODID:-//bgclubscv.org//NONSGML kigkonsult.se iCalcreator 2.30.10//
CALSCALE:GREGORIAN
METHOD:PUBLISH
UID:6470d0f2-91cd-43bd-84ab-c696f7dec5da
X-WR-CALDESC:
X-WR-RELCALID:5ed3810f4258ec3d90bfcf9032a5db99
X-WR-TIMEZONE:America/Los_Angeles
BEGIN:VTIMEZONE
TZID:America/Los_Angeles
BEGIN:STANDARD
TZNAME:PST
DTSTART:20291104T020000
TZOFFSETFROM:-0700
TZOFFSETTO:-0800
RDATE:20301103T020000
END:STANDARD
BEGIN:DAYLIGHT
TZNAME:PDT
DTSTART:20300310T020000
TZOFFSETFROM:-0800
TZOFFSETTO:-0700
RDATE:20310309T020000
END:DAYLIGHT
END:VTIMEZONE
BEGIN:VEVENT
UID:3d2e006f-18d8-4498-8e72-2dd69fff0871
DTSTAMP:20260424T133153Z
DESCRIPTION:
DTSTART;TZID=America/Los_Angeles:20300412T120000
DTEND;TZID=America/Los_Angeles:20300412T130000
LOCATION:
SUMMARY:Board of Directors Meeting
END:VEVENT
END:VCALENDAR
