BEGIN:VCALENDAR
VERSION:2.0
PRODID:-//bgclubscv.org//NONSGML kigkonsult.se iCalcreator 2.30.10//
CALSCALE:GREGORIAN
METHOD:PUBLISH
UID:45ea44f7-c8a4-4a82-8ca8-04fa7d385c45
X-WR-CALDESC:
X-WR-RELCALID:3aa402a20248104d43c10dc40b8a0942
X-WR-TIMEZONE:America/Los_Angeles
BEGIN:VTIMEZONE
TZID:America/Los_Angeles
BEGIN:STANDARD
TZNAME:PST
DTSTART:20291104T020000
TZOFFSETFROM:-0700
TZOFFSETTO:-0800
RDATE:20301103T020000
RDATE:20311102T020000
END:STANDARD
BEGIN:DAYLIGHT
TZNAME:PDT
DTSTART:20300310T020000
TZOFFSETFROM:-0800
TZOFFSETTO:-0700
RDATE:20310309T020000
END:DAYLIGHT
END:VTIMEZONE
BEGIN:VEVENT
UID:ada6d6b5-9f4d-4656-9887-15dcaafbd90f
DTSTAMP:20260424T184151Z
DESCRIPTION:
DTSTART;TZID=America/Los_Angeles:20300712T120000
DTEND;TZID=America/Los_Angeles:20300712T130000
LOCATION:
SUMMARY:Board of Directors Meeting
END:VEVENT
END:VCALENDAR
