BEGIN:VCALENDAR
VERSION:2.0
PRODID:-//bgclubscv.org//NONSGML kigkonsult.se iCalcreator 2.30.10//
CALSCALE:GREGORIAN
METHOD:PUBLISH
UID:dc9d7aaf-f685-4dd3-b1aa-0b5a7f60e40b
X-WR-CALDESC:
X-WR-RELCALID:63ef0847c907d64b14e3ac21d3c27b53
X-WR-TIMEZONE:America/Los_Angeles
BEGIN:VTIMEZONE
TZID:America/Los_Angeles
BEGIN:STANDARD
TZNAME:PST
DTSTART:20291104T020000
TZOFFSETFROM:-0700
TZOFFSETTO:-0800
RDATE:20301103T020000
RDATE:20311102T020000
END:STANDARD
BEGIN:DAYLIGHT
TZNAME:PDT
DTSTART:20300310T020000
TZOFFSETFROM:-0800
TZOFFSETTO:-0700
RDATE:20310309T020000
END:DAYLIGHT
END:VTIMEZONE
BEGIN:VEVENT
UID:a2b531d1-5911-49ff-b9ca-b826f27a7da4
DTSTAMP:20260424T201645Z
DESCRIPTION:
DTSTART;TZID=America/Los_Angeles:20300809T120000
DTEND;TZID=America/Los_Angeles:20300809T130000
LOCATION:
SUMMARY:Board of Directors Meeting
END:VEVENT
END:VCALENDAR
