BEGIN:VCALENDAR
VERSION:2.0
PRODID:-//bgclubscv.org//NONSGML kigkonsult.se iCalcreator 2.30.10//
CALSCALE:GREGORIAN
METHOD:PUBLISH
UID:97d18d51-ee24-48a7-ad9e-aee79c55c27a
X-WR-CALDESC:
X-WR-RELCALID:eea268e0a0a367c71965f258a670a234
X-WR-TIMEZONE:America/Los_Angeles
BEGIN:VTIMEZONE
TZID:America/Los_Angeles
BEGIN:STANDARD
TZNAME:PST
DTSTART:20291104T020000
TZOFFSETFROM:-0700
TZOFFSETTO:-0800
RDATE:20301103T020000
RDATE:20311102T020000
END:STANDARD
BEGIN:DAYLIGHT
TZNAME:PDT
DTSTART:20300310T020000
TZOFFSETFROM:-0800
TZOFFSETTO:-0700
RDATE:20310309T020000
RDATE:20320314T020000
END:DAYLIGHT
END:VTIMEZONE
BEGIN:VEVENT
UID:33f4e5fd-a108-4f45-9fc1-72f8b1cd12f7
DTSTAMP:20260424T234126Z
DESCRIPTION:
DTSTART;TZID=America/Los_Angeles:20301011T120000
DTEND;TZID=America/Los_Angeles:20301011T130000
LOCATION:
SUMMARY:Board of Directors Meeting
END:VEVENT
END:VCALENDAR
