BEGIN:VCALENDAR
VERSION:2.0
PRODID:-//bgclubscv.org//NONSGML kigkonsult.se iCalcreator 2.30.10//
CALSCALE:GREGORIAN
METHOD:PUBLISH
UID:c54aefbf-4bc8-4234-b252-c327fd1af36e
X-WR-CALDESC:
X-WR-RELCALID:e9076d33a115da1edcbbc8fc7109f446
X-WR-TIMEZONE:America/Los_Angeles
BEGIN:VTIMEZONE
TZID:America/Los_Angeles
BEGIN:STANDARD
TZNAME:PST
DTSTART:20301103T020000
TZOFFSETFROM:-0700
TZOFFSETTO:-0800
RDATE:20311102T020000
END:STANDARD
BEGIN:DAYLIGHT
TZNAME:PDT
DTSTART:20300310T020000
TZOFFSETFROM:-0800
TZOFFSETTO:-0700
RDATE:20310309T020000
RDATE:20320314T020000
END:DAYLIGHT
END:VTIMEZONE
BEGIN:VEVENT
UID:e42f7ac9-3aba-4410-b73e-19787bc7a673
DTSTAMP:20260425T023615Z
DESCRIPTION:
DTSTART;TZID=America/Los_Angeles:20301213T120000
DTEND;TZID=America/Los_Angeles:20301213T130000
LOCATION:
SUMMARY:Board of Directors Meeting
END:VEVENT
END:VCALENDAR
