BEGIN:VCALENDAR
VERSION:2.0
PRODID:-//bgclubscv.org//NONSGML kigkonsult.se iCalcreator 2.30.10//
CALSCALE:GREGORIAN
METHOD:PUBLISH
UID:a9fd3889-4215-45f2-b7ae-979c7b56bee2
X-WR-CALDESC:
X-WR-RELCALID:3b55237a631c2cfb31ac8180cf3d2dda
X-WR-TIMEZONE:America/Los_Angeles
BEGIN:VTIMEZONE
TZID:America/Los_Angeles
BEGIN:STANDARD
TZNAME:PST
DTSTART:20301103T020000
TZOFFSETFROM:-0700
TZOFFSETTO:-0800
RDATE:20311102T020000
RDATE:20321107T020000
END:STANDARD
BEGIN:DAYLIGHT
TZNAME:PDT
DTSTART:20310309T020000
TZOFFSETFROM:-0800
TZOFFSETTO:-0700
RDATE:20320314T020000
END:DAYLIGHT
END:VTIMEZONE
BEGIN:VEVENT
UID:8ac38148-73dc-4723-83be-1717396e5bb6
DTSTAMP:20260425T123758Z
DESCRIPTION:
DTSTART;TZID=America/Los_Angeles:20310613T120000
DTEND;TZID=America/Los_Angeles:20310613T130000
LOCATION:
SUMMARY:Board of Directors Meeting
END:VEVENT
END:VCALENDAR
