BEGIN:VCALENDAR
VERSION:2.0
PRODID:-//bgclubscv.org//NONSGML kigkonsult.se iCalcreator 2.30.10//
CALSCALE:GREGORIAN
METHOD:PUBLISH
UID:bd1b167e-b19f-4ba7-abbf-80c04c716535
X-WR-CALDESC:
X-WR-RELCALID:5c1a3a19f10bdd17e7aaf1ebd4f495f3
X-WR-TIMEZONE:America/Los_Angeles
BEGIN:VTIMEZONE
TZID:America/Los_Angeles
BEGIN:STANDARD
TZNAME:PST
DTSTART:20311102T020000
TZOFFSETFROM:-0700
TZOFFSETTO:-0800
RDATE:20321107T020000
END:STANDARD
BEGIN:DAYLIGHT
TZNAME:PDT
DTSTART:20310309T020000
TZOFFSETFROM:-0800
TZOFFSETTO:-0700
RDATE:20320314T020000
RDATE:20330313T020000
END:DAYLIGHT
END:VTIMEZONE
BEGIN:VEVENT
UID:08ef502e-ae3e-4097-97ab-71a1fc46daa9
DTSTAMP:20260425T211023Z
DESCRIPTION:
DTSTART;TZID=America/Los_Angeles:20311114T120000
DTEND;TZID=America/Los_Angeles:20311114T130000
LOCATION:
SUMMARY:Board of Directors Meeting
END:VEVENT
END:VCALENDAR
